BEGIN:VCALENDAR
VERSION:2.0
PRODID:-//wp-events-plugin.com//7.2.3.1//EN
BEGIN:VEVENT
UID:252@nccc.org.uk
DTSTART:20241127T190000Z
DTEND:20241127T223000Z
DTSTAMP:20240110T144522Z
URL:https://www.nccc.org.uk/events/wreath-making-evening-with-david-mason/
SUMMARY:Wreath Making Evening with David Mason
DESCRIPTION:Book your place with Sheila Barlow
END:VEVENT
END:VCALENDAR