BEGIN:VCALENDAR
VERSION:2.0
PRODID:-//wp-events-plugin.com//7.2.3.1//EN
BEGIN:VEVENT
UID:44@nccc.org.uk
DTSTART:20240413T100000Z
DTEND:20240413T140000Z
DTSTAMP:20240213T132542Z
URL:https://www.nccc.org.uk/events/work-party-day-2024-04-13/
SUMMARY:Work Party Day
DESCRIPTION:The work party day takes placesfrom 10am to approximately 1pm. 
  Pie and a Pint is available to purchase after the work party\, please ens
 ure you let the team in the kitchen know so they can ensure everyone has f
 ood - this
END:VEVENT
END:VCALENDAR