BEGIN:VCALENDAR
VERSION:2.0
PRODID:-//wp-events-plugin.com//7.2.3.1//EN
BEGIN:VEVENT
UID:40@nccc.org.uk
DTSTART:20231202T100000Z
DTEND:20231202T140000Z
DTSTAMP:20231117T125122Z
URL:https://www.nccc.org.uk/events/work-party-day-2023-12-09/
SUMMARY:Work Party Day
DESCRIPTION:The work party day takes places on the 2nd Saturday of each mon
 th from 10am to approximately 1pm.  Pie and a Pint is available to purchas
 e after the work party\, please ensure you let the team in the kitchen kno
 w so they can ensure everyone has food   Due to the Christmas Party taking
  pace on 9th the work party has been brought forward one week.
END:VEVENT
END:VCALENDAR