BEGIN:VCALENDAR
VERSION:2.0
PRODID:-//wp-events-plugin.com//7.2.3.1//EN
BEGIN:VEVENT
UID:344@nccc.org.uk
DTSTART:20251213T133000Z
DTEND:20251213T143000Z
DTSTAMP:20250115T133934Z
URL:https://www.nccc.org.uk/events/work-party-2025-12-13/
SUMMARY:Board Meeting
DESCRIPTION:Board Meetings to take place after the work party from 1.30pm t
 o 2.30pm\n
END:VEVENT
END:VCALENDAR