BEGIN:VCALENDAR
VERSION:2.0
PRODID:-//wp-events-plugin.com//7.2.3.1//EN
BEGIN:VEVENT
UID:469@nccc.org.uk
DTSTART:20251012T120000Z
DTEND:20251012T140000Z
DTSTAMP:20250815T074015Z
URL:https://www.nccc.org.uk/events/sunday-lunch-2025-10-05-2025-10-12/
SUMMARY:Sunday Lunch
DESCRIPTION:Light Lunch and Toastie\, with Tea Coffee and specialised Coffe
 e.\n\nBat is also open\n\nPayment via card machine now available
END:VEVENT
END:VCALENDAR