BEGIN:VCALENDAR
VERSION:2.0
PRODID:-//wp-events-plugin.com//7.2.3.1//EN
BEGIN:VEVENT
UID:248@nccc.org.uk
DTSTART:20240316T190000Z
DTEND:20240316T233000Z
DTSTAMP:20240110T144127Z
URL:https://www.nccc.org.uk/events/race-night/
SUMMARY:Big Screen Race Night
DESCRIPTION:Join us for the Big Screen Race Night\n\nFirst Race @7.30pm\n\n
 Have a great time\, everyone is welcome bring your friends\n\nEntrance £3
  - buy horses from Sheila Barlow
END:VEVENT
END:VCALENDAR