BEGIN:VCALENDAR
VERSION:2.0
PRODID:-//wp-events-plugin.com//7.2.3.1//EN
BEGIN:VEVENT
UID:360@nccc.org.uk
DTSTART:20250315T193000Z
DTEND:20250315T230000Z
DTSTAMP:20250115T135221Z
URL:https://www.nccc.org.uk/events/race-night-2/
SUMMARY:Race Night
DESCRIPTION:Sponsor a race\, buy a horse.  This event is organised by Shei
 la Barlow.  Sheila is available on Friday nights at the club and Sunday l
 unches			\n
END:VEVENT
END:VCALENDAR