BEGIN:VCALENDAR
VERSION:2.0
PRODID:-//wp-events-plugin.com//7.2.3.1//EN
BEGIN:VEVENT
UID:330@nccc.org.uk
DTSTART:20240831T100000Z
DTEND:20240831T160000Z
DTSTAMP:20240808T114022Z
URL:https://www.nccc.org.uk/events/open-day-braidbar-boats/
SUMMARY:Open Day - Braidbar Boats
DESCRIPTION:How many times have you travelled down to Macclesfield Canal to
  Poynton\, and as you pass\, cricked your neck looking at the shells\, and
  painted boats in the Braidbar Boat yard.\n\nWell nows you chance to have 
 a look.  Braidbar boats are hosting an open day on Saturday August 31st fr
 om 10am to 4pm.\n\nEveryone is welcome to attend.\n\n \n
END:VEVENT
END:VCALENDAR