BEGIN:VCALENDAR
VERSION:2.0
PRODID:-//wp-events-plugin.com//7.2.3.1//EN
BEGIN:VEVENT
UID:242@nccc.org.uk
DTSTART:20230910T123000Z
DTEND:20230910T170000Z
DTSTAMP:20230908T130334Z
URL:https://www.nccc.org.uk/events/members-barbecue-80th-anniversary/
SUMMARY:Members Barbecue 80th Anniversary
DESCRIPTION:Members barbecue to take place from 12.30pm on the 'Willie's La
 wn' in front of the cottage.\n\nAll members are welcome - no booking neede
 d.\n\nPlease bring your own chairs and drinks.\n\n
END:VEVENT
END:VCALENDAR