BEGIN:VCALENDAR
VERSION:2.0
PRODID:-//wp-events-plugin.com//7.2.3.1//EN
BEGIN:VEVENT
UID:245@nccc.org.uk
DTSTART:20230916T100000Z
DTEND:20230916T130000Z
DTSTAMP:20230912T094217Z
URL:https://www.nccc.org.uk/events/macmillan-coffee-morning/
SUMMARY:MacMillan Coffee Morning
DESCRIPTION:Macmillan Coffee Morning with Bill Wilkinson – 10am to 1pm 
 – If the weather is good it will be outside\, if the weather is bad it w
 ill be inside.  Cake donations welcome.  Come along and purchase a tea or 
 coffee and cake. There is also a raffle. All proceeds go to Macmillan. 
END:VEVENT
END:VCALENDAR