BEGIN:VCALENDAR
VERSION:2.0
PRODID:-//wp-events-plugin.com//7.2.3.1//EN
BEGIN:VEVENT
UID:250@nccc.org.uk
DTSTART;VALUE=DATE:20240914
DTEND;VALUE=DATE:20240915
DTSTAMP:20240110T144308Z
URL:https://www.nccc.org.uk/events/macmillan-coffee-morning-2/
SUMMARY:MacMillan Coffee Morning
DESCRIPTION:More details to follow
END:VEVENT
END:VCALENDAR