BEGIN:VCALENDAR
VERSION:2.0
PRODID:-//wp-events-plugin.com//7.2.3.1//EN
BEGIN:VEVENT
UID:495@nccc.org.uk
DTSTART:20251018T190000Z
DTEND:20251018T233000Z
DTSTAMP:20250815T074631Z
URL:https://www.nccc.org.uk/events/laying-up-supper-3/
SUMMARY:Laying Up Supper
DESCRIPTION:Poster to Follow
END:VEVENT
END:VCALENDAR