BEGIN:VCALENDAR
VERSION:2.0
PRODID:-//wp-events-plugin.com//7.2.3.1//EN
BEGIN:VEVENT
UID:551@nccc.org.uk
DTSTART:20260926T080000Z
DTEND:20260926T130000Z
DTSTAMP:20260415T153300Z
URL:https://www.nccc.org.uk/events/gb-ultra-marathon-nccc-stop-off-point/
SUMMARY:GB Ultra Marathon - NCCC stop off point
DESCRIPTION:From 8am to 1pm
END:VEVENT
END:VCALENDAR