BEGIN:VCALENDAR
VERSION:2.0
PRODID:-//wp-events-plugin.com//7.2.3.1//EN
BEGIN:VEVENT
UID:552@nccc.org.uk
DTSTART:20261121T090000Z
DTEND:20261121T193000Z
DTSTAMP:20260415T153852Z
URL:https://www.nccc.org.uk/events/gb-ultra-marathon-nccc-stop-off-point-2
 /
SUMMARY:GB Ultra Marathon - NCCC Stop Off Point
DESCRIPTION:
END:VEVENT
END:VCALENDAR