BEGIN:VCALENDAR
VERSION:2.0
PRODID:-//wp-events-plugin.com//7.2.3.1//EN
BEGIN:VEVENT
UID:163@nccc.org.uk
DTSTART:20231027T200000Z
DTEND:20231027T230000Z
DTSTAMP:20230711T140045Z
URL:https://www.nccc.org.uk/events/friday-night-social-at-nccc-clubhouse-2
 -2023-10-27/
SUMMARY:Friday Night Social at NCCC Clubhouse
DESCRIPTION:Join us for a drink and chat with other NCCC members every Frid
 ay night from 8pm onwards.
END:VEVENT
END:VCALENDAR