BEGIN:VCALENDAR
VERSION:2.0
PRODID:-//wp-events-plugin.com//7.2.3.1//EN
BEGIN:VEVENT
UID:537@nccc.org.uk
DTSTART:20271105T193000Z
DTEND:20271105T233000Z
DTSTAMP:20260112T155940Z
URL:https://www.nccc.org.uk/events/friday-night-social-2027-11-05/
SUMMARY:Friday Night Social
DESCRIPTION:Join us on a Friday night from 7.30pm onwards
END:VEVENT
END:VCALENDAR