BEGIN:VCALENDAR
VERSION:2.0
PRODID:-//wp-events-plugin.com//7.2.3.1//EN
BEGIN:VEVENT
UID:536@nccc.org.uk
DTSTART:20271029T193000Z
DTEND:20271029T233000Z
DTSTAMP:20260112T155940Z
URL:https://www.nccc.org.uk/events/friday-night-social-2027-10-29/
SUMMARY:Friday Night Social
DESCRIPTION:Join us on a Friday night from 7.30pm onwards
END:VEVENT
END:VCALENDAR