BEGIN:VCALENDAR
VERSION:2.0
PRODID:-//wp-events-plugin.com//7.2.3.1//EN
BEGIN:VEVENT
UID:253@nccc.org.uk
DTSTART:20241204T190000Z
DTEND:20241204T230000Z
DTSTAMP:20240110T144625Z
URL:https://www.nccc.org.uk/events/flower-demonstration-with-david-mason/
SUMMARY:Flower Demonstration with David Mason
DESCRIPTION:Book your tickets early with Sheila Barlow
END:VEVENT
END:VCALENDAR