BEGIN:VCALENDAR
VERSION:2.0
PRODID:-//wp-events-plugin.com//7.2.3.1//EN
BEGIN:VEVENT
UID:244@nccc.org.uk
DTSTART:20231206T190000Z
DTEND:20231206T210000Z
DTSTAMP:20230912T094017Z
URL:https://www.nccc.org.uk/events/flower-demonstration-by-david-mason/
SUMMARY:Flower Demonstration by David Mason
DESCRIPTION:The first Christmas - places are limited so book quickly\n\nBoo
 k with Sheila Barlow 01663 765731\n\nStart 7.30pm  - Admission (to be conf
 irmed) but price includes refreshments.
END:VEVENT
END:VCALENDAR