BEGIN:VCALENDAR
VERSION:2.0
PRODID:-//wp-events-plugin.com//7.2.3.1//EN
BEGIN:VEVENT
UID:249@nccc.org.uk
DTSTART:20240323T190000Z
DTEND:20240323T233000Z
DTSTAMP:20240110T144219Z
URL:https://www.nccc.org.uk/events/fitting-out-supper/
SUMMARY:Fitting out Supper
DESCRIPTION:Details to follow
END:VEVENT
END:VCALENDAR