BEGIN:VCALENDAR
VERSION:2.0
PRODID:-//wp-events-plugin.com//7.2.3.1//EN
BEGIN:VEVENT
UID:376@nccc.org.uk
DTSTART:20250405T190000Z
DTEND:20250405T233000Z
DTSTAMP:20250115T135645Z
URL:https://www.nccc.org.uk/events/fitting-out-supper-2/
SUMMARY:Fitting Out Supper
DESCRIPTION:Join us for a night of music\, dance and good food for our annu
 al Fitting Out Supper.  If you are interested in attending\, please put yo
 ur name on the board in the club room 
END:VEVENT
END:VCALENDAR