BEGIN:VCALENDAR
VERSION:2.0
PRODID:-//wp-events-plugin.com//7.2.3.1//EN
BEGIN:VEVENT
UID:255@nccc.org.uk
DTSTART;VALUE=DATE:20240525
DTEND;VALUE=DATE:20240528
DTSTAMP:20240110T144859Z
URL:https://www.nccc.org.uk/events/crick-boat-show/
SUMMARY:Crick Boat Show
DESCRIPTION:Interested in attending the Crick Boat Show have a look at the 
 website and book tickets\n\nhttps://www.crickboatshow.com/
END:VEVENT
END:VCALENDAR