BEGIN:VCALENDAR
VERSION:2.0
PRODID:-//wp-events-plugin.com//7.2.3.1//EN
BEGIN:VEVENT
UID:464@nccc.org.uk
DTSTART:20251126T190000Z
DTEND:20251126T220000Z
DTSTAMP:20250815T073334Z
URL:https://www.nccc.org.uk/events/christmas-wreath-evenings-workshop/
SUMMARY:Christmas Wreath Evenings Workshop
DESCRIPTION:Poster to follow
END:VEVENT
END:VCALENDAR