BEGIN:VCALENDAR
VERSION:2.0
PRODID:-//wp-events-plugin.com//7.2.3.1//EN
BEGIN:VEVENT
UID:254@nccc.org.uk
DTSTART:20241207T190000Z
DTEND:20241207T233000Z
DTSTAMP:20240110T144720Z
URL:https://www.nccc.org.uk/events/christmas-party-2/
SUMMARY:Christmas Party
DESCRIPTION:More details to follow
END:VEVENT
END:VCALENDAR