BEGIN:VCALENDAR
VERSION:2.0
PRODID:-//wp-events-plugin.com//7.2.3.1//EN
BEGIN:VEVENT
UID:465@nccc.org.uk
DTSTART:20251203T193000Z
DTEND:20251203T220000Z
DTSTAMP:20250815T073442Z
URL:https://www.nccc.org.uk/events/christmas-flower-demonstration-a-winter
 s-delight/
SUMMARY:Christmas Flower Demonstration - A Winters Delight
DESCRIPTION:Poster to follow
END:VEVENT
END:VCALENDAR