BEGIN:VCALENDAR
VERSION:2.0
PRODID:-//wp-events-plugin.com//7.2.3.1//EN
BEGIN:VEVENT
UID:494@nccc.org.uk
DTSTART:20251221T193000Z
DTEND:20251221T230000Z
DTSTAMP:20250815T074223Z
URL:https://www.nccc.org.uk/events/brass-band-evening-with-hawk-green-bras
 s-band/
SUMMARY:Brass Band Evening with Hawk Green Brass Band
DESCRIPTION:Poster to follow
END:VEVENT
END:VCALENDAR