BEGIN:VCALENDAR
VERSION:2.0
PRODID:-//wp-events-plugin.com//7.2.3.1//EN
BEGIN:VEVENT
UID:497@nccc.org.uk
DTSTART:20250823T123000Z
DTEND:20250823T203000Z
DTSTAMP:20250815T082408Z
URL:https://www.nccc.org.uk/events/august-bank-holiday-bbq/
SUMMARY:August Bank Holiday BBQ
DESCRIPTION:August Bank Holiday BBQ\nMusic\nBar\nCome and have an afternoon
  of fun\, chat.\nBring your own chairs
END:VEVENT
END:VCALENDAR