BEGIN:VCALENDAR
VERSION:2.0
PRODID:-//wp-events-plugin.com//7.2.3.1//EN
BEGIN:VEVENT
UID:256@nccc.org.uk
DTSTART:20241103T130000Z
DTEND:20241103T150000Z
DTSTAMP:20240110T145003Z
URL:https://www.nccc.org.uk/events/annual-general-meeting/
SUMMARY:Annual General Meeting
DESCRIPTION:More details to follow in Sept/October
END:VEVENT
END:VCALENDAR