BEGIN:VCALENDAR
VERSION:2.0
PRODID:-//wp-events-plugin.com//7.2.3.1//EN
BEGIN:VEVENT
UID:243@nccc.org.uk
DTSTART:20231129T190000Z
DTEND:20231129T213000Z
DTSTAMP:20230912T093814Z
URL:https://www.nccc.org.uk/events/a-christmas-wreath-evening-workshop/
SUMMARY:A Christmas Wreath Evening Workshop
DESCRIPTION:Create your own door wreath in plant material - wreath and wire
 d supplied.  Personalise and decorate with your own items in a colour of y
 our choise.\n\nPrice (to be confirmed) includes tuition.  Start 7pm\n\nPri
 ces are limited so book quickly -  Call Sheila Barlow to book 01663 765731
END:VEVENT
END:VCALENDAR